BEGIN:VCALENDAR
VERSION:2.0
PRODID:-//Contratero//ES
CALSCALE:GREGORIAN
METHOD:PUBLISH
BEGIN:VEVENT
UID:2020 00000077@contratero.es
DTSTAMP:20260425T141522Z
DTSTART:20210118T235959
DTEND:20210119T005959
SUMMARY:Cierre: Servicio de mantenimiento correctivo y adaptativo 
DESCRIPTION:Servicio de mantenimiento correctivo y adaptativo del sistema de información y gestión comercial integrada del Centro Nacional de Información Geográfica\\n\\nOrganismo: Centro Nacional de Información Geográfica\\n\\nVer en Contratero: https://contratero.es/contracts/2020 00000077
URL:https://contratero.es/contracts/2020 00000077
STATUS:CONFIRMED
BEGIN:VALARM
TRIGGER:-P1D
ACTION:DISPLAY
DESCRIPTION:Recordatorio: Servicio de mantenimiento corr
END:VALARM
END:VEVENT
END:VCALENDAR